BEGIN:VCALENDAR
VERSION:2.0
PRODID:-//eventon.com NONSGML v1.0//EN
CALSCALE:GREGORIAN
METHOD:PUBLISH
BEGIN:VEVENT
UID:69e5f892d93b2
DTSTAMP:20260420T095738Z
DTSTART:20170408T000000Z
DTEND:20170408T000000Z
LOCATION:Utrecht
SUMMARY:Taekwondodag "Fun"
DESCRIPTION:Taekwondodag "Fun"\nhttps://www.taekwondobond.nl/events/taekwon
 dodag-fun/
URL:https://www.taekwondobond.nl/events/taekwondodag-fun/
END:VEVENT
END:VCALENDAR