BEGIN:VCALENDAR
VERSION:2.0
PRODID:-//eventon.com NONSGML v1.0//EN
CALSCALE:GREGORIAN
METHOD:PUBLISH
BEGIN:VEVENT
UID:69e5f8ca7d78e
DTSTAMP:20260420T095834Z
DTSTART:20171006
DTEND:20171007
LOCATION:
SUMMARY:Taekwondo Kamp Nederland 2017
DESCRIPTION:Taekwondokamp Nederland\nhttps://www.taekwondobond.nl/events/ta
 ekwondokamp/
URL:https://www.taekwondobond.nl/events/taekwondokamp/
END:VEVENT
END:VCALENDAR