BEGIN:VCALENDAR
VERSION:2.0
PRODID:-//eventon.com NONSGML v1.0//EN
CALSCALE:GREGORIAN
METHOD:PUBLISH
BEGIN:VEVENT
UID:69e5f8c85fcca
DTSTAMP:20260420T095832Z
DTSTART:20171217
DTEND:20171218
LOCATION:Lent Griftdijk Noord 9B
SUMMARY:NATIONAAL DANEXAMEN
DESCRIPTION:Uitschrijving Nationaal Danexamen december 2017\nhttps://www.ta
 ekwondobond.nl/events/nationaal-danexamen-datum-onder-voorbehoud/
URL:https://www.taekwondobond.nl/events/nationaal-danexamen-datum-onder-voorbehoud/
END:VEVENT
END:VCALENDAR