BEGIN:VCALENDAR
VERSION:2.0
PRODID:-//eventon.com NONSGML v1.0//EN
CALSCALE:GREGORIAN
METHOD:PUBLISH
BEGIN:VEVENT
UID:69e5f88d3a58c
DTSTAMP:20260420T095733Z
DTSTART:20170423T000000Z
DTEND:20170423T000000Z
LOCATION:Merweplein 1\,  Nieuwegein Merweplein 1\,  Nieuwegein
SUMMARY:Danvoorbereidingstraining
DESCRIPTION:Danvoorbereidingstraining april 2017\nhttps://www.taekwondobond
 .nl/events/danvoorbereidingstraining-onder-voorbehoud/
URL:https://www.taekwondobond.nl/events/danvoorbereidingstraining-onder-voorbehoud/
END:VEVENT
END:VCALENDAR