BEGIN:VCALENDAR
VERSION:2.0
PRODID:-//eventon.com NONSGML v1.0//EN
CALSCALE:GREGORIAN
METHOD:PUBLISH
BEGIN:VEVENT
UID:69e73b925c3a2
DTSTAMP:20260421T085546Z
DTSTART:20180408T000000Z
DTEND:20180408T000000Z
LOCATION:Sporthal Ravijn Piet Heinweg 16\,  Nijverdal
SUMMARY:Open Districtskampioenschappen Poomsae Noord-Oost
DESCRIPTION:Open District NoordOost Poomsae kampioenschap 2018\nhttps://www
 .taekwondobond.nl/events/open-districtskampioenschappen-poomsae-noord-oost/
URL:https://www.taekwondobond.nl/events/open-districtskampioenschappen-poomsae-noord-oost/
END:VEVENT
END:VCALENDAR