BEGIN:VCALENDAR
VERSION:2.0
PRODID:-//eventon.com NONSGML v1.0//EN
CALSCALE:GREGORIAN
METHOD:PUBLISH
BEGIN:VEVENT
UID:69e74edd68616
DTSTAMP:20260421T101805Z
DTSTART:20171119T083000Z
DTEND:20171119T123000Z
LOCATION:Vianen Westelijke Parallelweg 1\,  Vianen
SUMMARY:Danvoorbereidingstraining
DESCRIPTION:Danvoorbereidingstraining november 2017\nhttps://www.taekwondob
 ond.nl/events/danvoorbereidingstraining-onder-voorbehoud-2/
URL:https://www.taekwondobond.nl/events/danvoorbereidingstraining-onder-voorbehoud-2/
END:VEVENT
END:VCALENDAR