BEGIN:VCALENDAR
VERSION:2.0
PRODID:-//eventon.com NONSGML v1.0//EN
CALSCALE:GREGORIAN
METHOD:PUBLISH
BEGIN:VEVENT
UID:69e5e35b83adb
DTSTAMP:20260420T082707Z
DTSTART:20171112T090000Z
DTEND:20171112T110000Z
LOCATION:
SUMMARY:Districtsvergadering Noord-Oost
DESCRIPTION:Districtsvergadering Noord-Oost\nhttps://www.taekwondobond.nl/e
 vents/districtsvergadering-noord-oost-2/
URL:https://www.taekwondobond.nl/events/districtsvergadering-noord-oost-2/
END:VEVENT
END:VCALENDAR