BEGIN:VCALENDAR
VERSION:2.0
PRODID:-//eventon.com NONSGML v1.0//EN
CALSCALE:GREGORIAN
METHOD:PUBLISH
BEGIN:VEVENT
UID:69e5f8be60008
DTSTAMP:20260420T095822Z
DTSTART:20180203T113000Z
DTEND:20180203T153000Z
LOCATION:Leiden
SUMMARY:Taekwondodag "Fun" District West
DESCRIPTION:Uitnodiging TKD dag Fun\nhttps://www.taekwondobond.nl/events/ta
 ekwondodag-fun-district-west/
URL:https://www.taekwondobond.nl/events/taekwondodag-fun-district-west/
END:VEVENT
END:VCALENDAR