BEGIN:VCALENDAR
VERSION:2.0
PRODID:-//eventon.com NONSGML v1.0//EN
CALSCALE:GREGORIAN
METHOD:PUBLISH
BEGIN:VEVENT
UID:69e74d6950417
DTSTAMP:20260421T101153Z
DTSTART:20171220T193000Z
DTEND:20171220T223000Z
LOCATION:Merweplein 1\,  Nieuwegein Merweplein 1\,  Nieuwegein
SUMMARY:Najaarsvergadering
DESCRIPTION:0092_17 Definitieve agenda najaarsvergadering 2017\nhttps://www
 .taekwondobond.nl/events/najaarsvergadering-2/
URL:https://www.taekwondobond.nl/events/najaarsvergadering-2/
END:VEVENT
END:VCALENDAR