BEGIN:VCALENDAR
VERSION:2.0
PRODID:-//eventon.com NONSGML v1.0//EN
CALSCALE:GREGORIAN
METHOD:PUBLISH
BEGIN:VEVENT
UID:69e5f8c925b3d
DTSTAMP:20260420T095833Z
DTSTART:20181124T070000Z
DTEND:20181124T190000Z
LOCATION:Van Zandvlietplein 20\,  Rotterdam Van Zandvlietplein 20\,  Rotterdam
SUMMARY:Rotterdam Open 2018
DESCRIPTION:Rotterdam Open 2018\nhttps://www.taekwondobond.nl/events/rotter
 dam-open-2018/
URL:https://www.taekwondobond.nl/events/rotterdam-open-2018/
END:VEVENT
END:VCALENDAR