BEGIN:VCALENDAR
VERSION:2.0
PRODID:-//eventon.com NONSGML v1.0//EN
CALSCALE:GREGORIAN
METHOD:PUBLISH
BEGIN:VEVENT
UID:69e5f8c00a6a0
DTSTAMP:20260420T095824Z
DTSTART:20180422T093000Z
DTEND:20180422T163000Z
LOCATION:Merweplein 1\,  Nieuwegein Merweplein 1\,  Nieuwegein
SUMMARY:Poomsae scheidsrechterscursus
DESCRIPTION:Stijljurycursus april 2018\nhttps://www.taekwondobond.nl/events
 /poomsae-scheidsrechterscursus/
URL:https://www.taekwondobond.nl/events/poomsae-scheidsrechterscursus/
END:VEVENT
END:VCALENDAR