BEGIN:VCALENDAR
VERSION:2.0
PRODID:-//eventon.com NONSGML v1.0//EN
CALSCALE:GREGORIAN
METHOD:PUBLISH
BEGIN:VEVENT
UID:69e5e39e6bfab
DTSTAMP:20260420T082814Z
DTSTART:20180224T110000Z
DTEND:20180224T170000Z
LOCATION:
SUMMARY:World Class Sparring Seminar - Budo Aykac
DESCRIPTION:Seminar Bagheri\nhttps://www.taekwondobond.nl/events/world-clas
 s-sparring-seminar-budo-aykac/
URL:https://www.taekwondobond.nl/events/world-class-sparring-seminar-budo-aykac/
END:VEVENT
END:VCALENDAR