BEGIN:VCALENDAR
VERSION:2.0
PRODID:-//eventon.com NONSGML v1.0//EN
CALSCALE:GREGORIAN
METHOD:PUBLISH
BEGIN:VEVENT
UID:69e74d80bafce
DTSTAMP:20260421T101216Z
DTSTART:20181104
DTEND:20181105
LOCATION:
SUMMARY:Stijljurycursus
DESCRIPTION:Stijljurycursus november 2018\nhttps://www.taekwondobond.nl/eve
 nts/stijljurycursus-3/
URL:https://www.taekwondobond.nl/events/stijljurycursus-3/
END:VEVENT
END:VCALENDAR