BEGIN:VCALENDAR
VERSION:2.0
PRODID:-//eventon.com NONSGML v1.0//EN
CALSCALE:GREGORIAN
METHOD:PUBLISH
BEGIN:VEVENT
UID:69e5f893c2942
DTSTAMP:20260420T095739Z
DTSTART:20180623T063600Z
DTEND:20180623T063600Z
LOCATION:Nijmegen Nieuwe Dukenburgseweg 5\,  Nijmegen
SUMMARY:HANS RUIJS TOERNOOI
DESCRIPTION:HANS RUIJS TOERNOOI\nhttps://www.taekwondobond.nl/events/hans-r
 uijs-toernooi/
URL:https://www.taekwondobond.nl/events/hans-ruijs-toernooi/
END:VEVENT
END:VCALENDAR