BEGIN:VCALENDAR
VERSION:2.0
PRODID:-//eventon.com NONSGML v1.0//EN
CALSCALE:GREGORIAN
METHOD:PUBLISH
BEGIN:VEVENT
UID:69e5e3bc8b4fe
DTSTAMP:20260420T082844Z
DTSTART:20181005
DTEND:20181006
LOCATION:
SUMMARY:Taekwondo kamp Nederland 5 t/m 7 oktober
DESCRIPTION:Taekwondokamp Nederland\nhttps://www.taekwondobond.nl/events/ta
 ekwondo-kamp-nederland-2018/
URL:https://www.taekwondobond.nl/events/taekwondo-kamp-nederland-2018/
END:VEVENT
END:VCALENDAR