BEGIN:VCALENDAR
VERSION:2.0
PRODID:-//eventon.com NONSGML v1.0//EN
CALSCALE:GREGORIAN
METHOD:PUBLISH
BEGIN:VEVENT
UID:69e5f8ca41658
DTSTAMP:20260420T095834Z
DTSTART:20181111T100000Z
DTEND:20181111T130000Z
LOCATION:
SUMMARY:Sparringcoaches informatiebijeenkomst
DESCRIPTION:Informatiebijeenkomst sparringcoaches 11 november 2018\nhttps:/
 /www.taekwondobond.nl/events/sparringcoaches-informatiebijeenkomst-2/
URL:https://www.taekwondobond.nl/events/sparringcoaches-informatiebijeenkomst-2/
END:VEVENT
END:VCALENDAR