BEGIN:VCALENDAR
VERSION:2.0
PRODID:-//eventon.com NONSGML v1.0//EN
CALSCALE:GREGORIAN
METHOD:PUBLISH
BEGIN:VEVENT
UID:69e5e358ba212
DTSTAMP:20260420T082704Z
DTSTART:20181213T200000Z
DTEND:20181213T220000Z
LOCATION:
SUMMARY:Districtsvergadering Noord-Oost Nederland
DESCRIPTION:Uitnodiging districtsvergadering Noord-Oost Nederland 2018 &nbs
 p;\nhttps://www.taekwondobond.nl/events/districtsvergadering-noord-oost-ned
 erland/
URL:https://www.taekwondobond.nl/events/districtsvergadering-noord-oost-nederland/
END:VEVENT
END:VCALENDAR