BEGIN:VCALENDAR
VERSION:2.0
PRODID:-//eventon.com NONSGML v1.0//EN
CALSCALE:GREGORIAN
METHOD:PUBLISH
BEGIN:VEVENT
UID:69e5e39aa1208
DTSTAMP:20260420T082810Z
DTSTART:20191004
DTEND:20191005
LOCATION:
SUMMARY:Taekwondo Kamp Nederland 4 t/m 6 oktober
DESCRIPTION:http://www.taekwondoactiviteiten.nl &nbsp; &nbsp;\nhttps://www.
 taekwondobond.nl/events/taekwondo-kamp-nederland-4-t-m-6-oktober/
URL:https://www.taekwondobond.nl/events/taekwondo-kamp-nederland-4-t-m-6-oktober/
END:VEVENT
END:VCALENDAR