BEGIN:VCALENDAR
VERSION:2.0
PRODID:-//eventon.com NONSGML v1.0//EN
CALSCALE:GREGORIAN
METHOD:PUBLISH
BEGIN:VEVENT
UID:69e5e398bb6f7
DTSTAMP:20260420T082808Z
DTSTART:20190519
DTEND:20190520
LOCATION:
SUMMARY:Herexamens danexamen
DESCRIPTION:Uitschrijving Nationaal Dan Herexamen mei 2019\nhttps://www.tae
 kwondobond.nl/events/herexamens-danexamen/
URL:https://www.taekwondobond.nl/events/herexamens-danexamen/
END:VEVENT
END:VCALENDAR