BEGIN:VCALENDAR
VERSION:2.0
PRODID:-//eventon.com NONSGML v1.0//EN
CALSCALE:GREGORIAN
METHOD:PUBLISH
BEGIN:VEVENT
UID:69e73adc1e76f
DTSTAMP:20260421T085244Z
DTSTART:20190505T100000Z
DTEND:20190505T163000Z
LOCATION:
SUMMARY:Wedstrijdreglementencursus
DESCRIPTION:Wedstrijdreglementencursus 5 mei 2019\nhttps://www.taekwondobon
 d.nl/events/wedstrijdreglementencursus-5/
URL:https://www.taekwondobond.nl/events/wedstrijdreglementencursus-5/
END:VEVENT
END:VCALENDAR