BEGIN:VCALENDAR
VERSION:2.0
PRODID:-//eventon.com NONSGML v1.0//EN
CALSCALE:GREGORIAN
METHOD:PUBLISH
BEGIN:VEVENT
UID:69e74e9cc502b
DTSTAMP:20260421T101700Z
DTSTART:20190622
DTEND:20190623
LOCATION:
SUMMARY:Geannuleerd - Hans Ruijs Poomsae toernooi
DESCRIPTION:HANS RUIJS POOMSAE TOERNOOI 2019\nhttps://www.taekwondobond.nl/
 events/hans-ruijs-poomsae-toernooi/
URL:https://www.taekwondobond.nl/events/hans-ruijs-poomsae-toernooi/
END:VEVENT
END:VCALENDAR