BEGIN:VCALENDAR
VERSION:2.0
PRODID:-//eventon.com NONSGML v1.0//EN
CALSCALE:GREGORIAN
METHOD:PUBLISH
BEGIN:VEVENT
UID:69e73b550cda7
DTSTAMP:20260421T085445Z
DTSTART:20190921
DTEND:20190922
LOCATION:
SUMMARY:Ouder Kind dag 2019 - Edwin van der Sar foundation
DESCRIPTION:https://www.edwinvandersarfoundation.nl/k/nl/n164/news/view/379
 0/1731/ouder-kind-dag-2019.html &nbsp; &nbsp; &nbsp; &nbsp;\nhttps://www.ta
 ekwondobond.nl/events/ouder-kind-dag-2019-edwin-van-der-sar-foundation/
URL:https://www.taekwondobond.nl/events/ouder-kind-dag-2019-edwin-van-der-sar-foundation/
END:VEVENT
END:VCALENDAR