BEGIN:VCALENDAR
VERSION:2.0
PRODID:-//eventon.com NONSGML v1.0//EN
CALSCALE:GREGORIAN
METHOD:PUBLISH
BEGIN:VEVENT
UID:69eb9c4d0e32a
DTSTAMP:20260424T163733Z
DTSTART:20221022
DTEND:20221023
LOCATION:
SUMMARY:4e TTE open
DESCRIPTION:4e TTE open\nhttps://www.taekwondobond.nl/events/4e-tte-open-sp
 arring-onder-voorbehoud/
URL:https://www.taekwondobond.nl/events/4e-tte-open-sparring-onder-voorbehoud/
END:VEVENT
END:VCALENDAR