BEGIN:VCALENDAR
VERSION:2.0
PRODID:-//eventon.com NONSGML v1.0//EN
CALSCALE:GREGORIAN
METHOD:PUBLISH
BEGIN:VEVENT
UID:69e9d93a04bb0
DTSTAMP:20260423T083258Z
DTSTART:20200918T000000Z
DTEND:20200927T235900Z
LOCATION:
SUMMARY:Nationale Sportweek
DESCRIPTION:http://www.nationalesportweek.nl/ &nbsp;\nhttps://www.taekwondo
 bond.nl/events/nationale-sportweek-2/
URL:https://www.taekwondobond.nl/events/nationale-sportweek-2/
END:VEVENT
END:VCALENDAR