BEGIN:VCALENDAR
VERSION:2.0
PRODID:-//eventon.com NONSGML v1.0//EN
CALSCALE:GREGORIAN
METHOD:PUBLISH
BEGIN:VEVENT
UID:69e762d653ec5
DTSTAMP:20260421T114318Z
DTSTART:20201115
DTEND:20201116
LOCATION:Merweplein 1\,  Nieuwegein Merweplein 1\,  Nieuwegein
SUMMARY:Herexamens danexamen (geannuleerd ivm coronavirus)
DESCRIPTION:Herexamens danexamen (geannuleerd ivm coronavirus)\nhttps://www
 .taekwondobond.nl/events/herexamens-danexamen-4/
URL:https://www.taekwondobond.nl/events/herexamens-danexamen-4/
END:VEVENT
END:VCALENDAR