BEGIN:VCALENDAR
VERSION:2.0
PRODID:-//eventon.com NONSGML v1.0//EN
CALSCALE:GREGORIAN
METHOD:PUBLISH
BEGIN:VEVENT
UID:69e5f8d6326a5
DTSTAMP:20260420T095846Z
DTSTART:20210609T151100Z
DTEND:20210609T151100Z
LOCATION:
SUMMARY:Districtsvergadering Zuid-Nederland
DESCRIPTION:oproep districtsvergadering zuid nederland juni 2021 definitiev
 e agenda districtsvergadering zuid-nederland juni 2021 &nbsp;\nhttps://www.
 taekwondobond.nl/events/districtsvergadering-zuid-nederland-7/
URL:https://www.taekwondobond.nl/events/districtsvergadering-zuid-nederland-7/
END:VEVENT
END:VCALENDAR