BEGIN:VCALENDAR
VERSION:2.0
PRODID:-//eventon.com NONSGML v1.0//EN
CALSCALE:GREGORIAN
METHOD:PUBLISH
BEGIN:VEVENT
UID:69eb9c4bb03d3
DTSTAMP:20260424T163731Z
DTSTART:20221119
DTEND:20221120
LOCATION:
SUMMARY:NK Sparren 2022
DESCRIPTION:NK Sparren 2022\nhttps://www.taekwondobond.nl/events/dutch-mast
 ers-2022/
URL:https://www.taekwondobond.nl/events/dutch-masters-2022/
END:VEVENT
END:VCALENDAR