BEGIN:VCALENDAR
VERSION:2.0
PRODID:-//eventon.com NONSGML v1.0//EN
CALSCALE:GREGORIAN
METHOD:PUBLISH
BEGIN:VEVENT
UID:69e5f8d5e7c4d
DTSTAMP:20260420T095845Z
DTSTART:20220625
DTEND:20220626
LOCATION:
SUMMARY:Open Windmills Taekwondo Championships 2022
DESCRIPTION:Open Windmills Taekwondo Championships 2022\nhttps://www.taekwo
 ndobond.nl/events/open-windmills-2022/
URL:https://www.taekwondobond.nl/events/open-windmills-2022/
END:VEVENT
END:VCALENDAR