BEGIN:VCALENDAR
VERSION:2.0
PRODID:-//eventon.com NONSGML v1.0//EN
CALSCALE:GREGORIAN
METHOD:PUBLISH
BEGIN:VEVENT
UID:69e622f5c008f
DTSTAMP:20260420T125829Z
DTSTART:20211023T070000Z
DTEND:20211024T180000Z
LOCATION:Theo Koomenlaan 1\,  Eindhoven Theo Koomenlaan 1\,  Eindhoven
SUMMARY:48th Dutch Open Taekwondo Championships Sparring
DESCRIPTION:Invitation Seniors: 2021 DUTCH OPEN SENIOR INVITATION &nbsp; In
 vitation Youth:2021 DUTCH OPEN JUNIOR &amp; CADET INVITATION &nbsp; &nbsp;\
 nhttps://www.taekwondobond.nl/events/48th-dutch-open-taekwondo-championship
 s-sparring/
URL:https://www.taekwondobond.nl/events/48th-dutch-open-taekwondo-championships-sparring/
END:VEVENT
END:VCALENDAR