BEGIN:VCALENDAR
VERSION:2.0
PRODID:-//eventon.com NONSGML v1.0//EN
CALSCALE:GREGORIAN
METHOD:PUBLISH
BEGIN:VEVENT
UID:69eb9c4b6da80
DTSTAMP:20260424T163731Z
DTSTART:20220403T093000Z
DTEND:20220403T113000Z
LOCATION:
SUMMARY:Districtsvergadering Noord-Oost
DESCRIPTION:Voorlopige agenda voorjaarsvergadering 2022 district Noord-Oost
  Agenda districtsvergadering Noord-Oost 3 april 2022 &nbsp;\nhttps://www.ta
 ekwondobond.nl/events/districtsvergadering-noord-oost-6/
URL:https://www.taekwondobond.nl/events/districtsvergadering-noord-oost-6/
END:VEVENT
END:VCALENDAR