BEGIN:VCALENDAR
VERSION:2.0
PRODID:-//eventon.com NONSGML v1.0//EN
CALSCALE:GREGORIAN
METHOD:PUBLISH
BEGIN:VEVENT
UID:69eb9c043dd64
DTSTAMP:20260424T163620Z
DTSTART:20220409
DTEND:20220410
LOCATION:
SUMMARY:District Noord-Oost Stijltoernooi
DESCRIPTION:District Noord- Oost Stijltoernooi 2022 &nbsp; Let op!  Deelna
 me alleen voor leden district Noord-Oost en/of studenten aan een HBO of WO 
 opleiding Inschrijvingen via http://www.tkdno.nl &nbsp;\nhttps://www.taekw
 ondobond.nl/events/arashi-stijl-toernooi-noord-oost-onder-voorbehoud/
URL:https://www.taekwondobond.nl/events/arashi-stijl-toernooi-noord-oost-onder-voorbehoud/
END:VEVENT
END:VCALENDAR