BEGIN:VCALENDAR
VERSION:2.0
PRODID:-//eventon.com NONSGML v1.0//EN
CALSCALE:GREGORIAN
METHOD:PUBLISH
BEGIN:VEVENT
UID:69eb9b9826d7c
DTSTAMP:20260424T163432Z
DTSTART:20221001
DTEND:20221002
LOCATION:
SUMMARY:Open Rosmalense Taekwondokampioenschappen Sparring
DESCRIPTION:\nhttps://www.taekwondobond.nl/events/open-rosmalense-taekwondo
 kampioenschappen-sparring/
URL:https://www.taekwondobond.nl/events/open-rosmalense-taekwondokampioenschappen-sparring/
END:VEVENT
END:VCALENDAR