BEGIN:VCALENDAR
VERSION:2.0
PRODID:-//eventon.com NONSGML v1.0//EN
CALSCALE:GREGORIAN
METHOD:PUBLISH
BEGIN:VEVENT
UID:69eb9b69baff1
DTSTAMP:20260424T163345Z
DTSTART:20220320
DTEND:20220321
LOCATION:
SUMMARY:Lesdag opleiding taekwondotrainer
DESCRIPTION:Aankondiging Opleiding Taekwondotrainer 2022-2023 &nbsp; Aanmel
 dingsformulier Opleiding 2022-2023 &nbsp;\nhttps://www.taekwondobond.nl/eve
 nts/lesdag-opleiding-taekwondotrainer/
URL:https://www.taekwondobond.nl/events/lesdag-opleiding-taekwondotrainer/
END:VEVENT
END:VCALENDAR