BEGIN:VCALENDAR
VERSION:2.0
PRODID:-//eventon.com NONSGML v1.0//EN
CALSCALE:GREGORIAN
METHOD:PUBLISH
BEGIN:VEVENT
UID:69eb9c4d8bf5a
DTSTAMP:20260424T163733Z
DTSTART:20220410
DTEND:20220411
LOCATION:
SUMMARY:Lesdag opleiding taekwondotrainer
DESCRIPTION:Lesdag opleiding taekwondotrainer\nhttps://www.taekwondobond.nl
 /events/lesdag-opleiding-taekwondotrainer-2/
URL:https://www.taekwondobond.nl/events/lesdag-opleiding-taekwondotrainer-2/
END:VEVENT
END:VCALENDAR