BEGIN:VCALENDAR
VERSION:2.0
PRODID:-//eventon.com NONSGML v1.0//EN
CALSCALE:GREGORIAN
METHOD:PUBLISH
BEGIN:VEVENT
UID:69eb9c3fcd444
DTSTAMP:20260424T163719Z
DTSTART:20220612
DTEND:20220613
LOCATION:
SUMMARY:Lesdag opleiding taekwondotrainer
DESCRIPTION:Lesdag opleiding taekwondotrainer\nhttps://www.taekwondobond.nl
 /events/lesdag-opleiding-taekwondotrainer-4/
URL:https://www.taekwondobond.nl/events/lesdag-opleiding-taekwondotrainer-4/
END:VEVENT
END:VCALENDAR