BEGIN:VCALENDAR
VERSION:2.0
PRODID:-//eventon.com NONSGML v1.0//EN
CALSCALE:GREGORIAN
METHOD:PUBLISH
BEGIN:VEVENT
UID:69eb9c48cd20f
DTSTAMP:20260424T163728Z
DTSTART:20220703
DTEND:20220704
LOCATION:
SUMMARY:Lesdag opleiding taekwondotrainer
DESCRIPTION:Lesdag opleiding taekwondotrainer\nhttps://www.taekwondobond.nl
 /events/lesdag-opleiding-taekwondotrainer-5/
URL:https://www.taekwondobond.nl/events/lesdag-opleiding-taekwondotrainer-5/
END:VEVENT
END:VCALENDAR