BEGIN:VCALENDAR
VERSION:2.0
PRODID:-//eventon.com NONSGML v1.0//EN
CALSCALE:GREGORIAN
METHOD:PUBLISH
BEGIN:VEVENT
UID:69eb9c4be2090
DTSTAMP:20260424T163731Z
DTSTART:20221016
DTEND:20221017
LOCATION:
SUMMARY:Lesdag opleiding taekwondotrainer
DESCRIPTION:Lesdag opleiding taekwondotrainer\nhttps://www.taekwondobond.nl
 /events/lesdag-opleiding-taekwondotrainer-7/
URL:https://www.taekwondobond.nl/events/lesdag-opleiding-taekwondotrainer-7/
END:VEVENT
END:VCALENDAR