BEGIN:VCALENDAR
VERSION:2.0
PRODID:-//eventon.com NONSGML v1.0//EN
CALSCALE:GREGORIAN
METHOD:PUBLISH
BEGIN:VEVENT
UID:69eb9c4c9f83b
DTSTAMP:20260424T163732Z
DTSTART:20221120
DTEND:20221121
LOCATION:
SUMMARY:Lesdag opleiding taekwondotrainer
DESCRIPTION:Lesdag opleiding taekwondotrainer\nhttps://www.taekwondobond.nl
 /events/lesdag-opleiding-taekwondotrainer-8/
URL:https://www.taekwondobond.nl/events/lesdag-opleiding-taekwondotrainer-8/
END:VEVENT
END:VCALENDAR