BEGIN:VCALENDAR
VERSION:2.0
PRODID:-//eventon.com NONSGML v1.0//EN
CALSCALE:GREGORIAN
METHOD:PUBLISH
BEGIN:VEVENT
UID:69eb9bf4d6584
DTSTAMP:20260424T163604Z
DTSTART:20220123
DTEND:20220124
LOCATION:
SUMMARY:Sparringstage
DESCRIPTION:Olympische sparring stage Dina Pouryounes en Manni Zareei &nbsp
 ; &nbsp;\nhttps://www.taekwondobond.nl/events/sparringstage/
URL:https://www.taekwondobond.nl/events/sparringstage/
END:VEVENT
END:VCALENDAR