BEGIN:VCALENDAR
VERSION:2.0
PRODID:-//eventon.com NONSGML v1.0//EN
CALSCALE:GREGORIAN
METHOD:PUBLISH
BEGIN:VEVENT
UID:69eb9befa6d2d
DTSTAMP:20260424T163559Z
DTSTART:20220306T110000Z
DTEND:20220306T140000Z
LOCATION:
SUMMARY:Top-Sparring Seminar
DESCRIPTION:Top sparring stage\,  Reshmie Oogink\,  6-3-2022\nhttps://www.t
 aekwondobond.nl/events/top-sparring-seminar/
URL:https://www.taekwondobond.nl/events/top-sparring-seminar/
END:VEVENT
END:VCALENDAR