BEGIN:VCALENDAR
VERSION:2.0
PRODID:-//eventon.com NONSGML v1.0//EN
CALSCALE:GREGORIAN
METHOD:PUBLISH
BEGIN:VEVENT
UID:69eb9c4086167
DTSTAMP:20260424T163720Z
DTSTART:20220319T090700Z
DTEND:20220319T090700Z
LOCATION:
SUMMARY:Poomsae Seminar
DESCRIPTION:Gratis Poomsae Seminar van vijfvoudig en regerend Europees kamp
 ioen “Joel van der Weide” &nbsp; Zaterdag 19 maart verzorgd de Taekwond
 o Bond Nederland een gratis poomsae seminar voor haar leden. Dit zal plaats
 vinden in de “SCC De Schans” Troestradreef 160 te ‘s-Hertogenbosch. N
 a de lockdown willen we de leden van de[..]\nhttps://www.taekwondobond.nl/e
 vents/poomsae-seminar-2/
URL:https://www.taekwondobond.nl/events/poomsae-seminar-2/
END:VEVENT
END:VCALENDAR