BEGIN:VCALENDAR
VERSION:2.0
PRODID:-//eventon.com NONSGML v1.0//EN
CALSCALE:GREGORIAN
METHOD:PUBLISH
BEGIN:VEVENT
UID:69eb9bf46e46d
DTSTAMP:20260424T163604Z
DTSTART:20220409
DTEND:20220410
LOCATION:
SUMMARY:District Noord-Oost Breektestentoernooi
DESCRIPTION:District Noord- Oost Breektestentoernooi 2022 &nbsp; Let op!  
 Deelname alleen voor leden district Noord-Oost en/of studenten aan een HBO 
 of WO opleiding Inschrijvingen via http://www.tkdno.nl\nhttps://www.taekwo
 ndobond.nl/events/district-noord-oost-breektestentoernooi/
URL:https://www.taekwondobond.nl/events/district-noord-oost-breektestentoernooi/
END:VEVENT
END:VCALENDAR