BEGIN:VCALENDAR
VERSION:2.0
PRODID:-//eventon.com NONSGML v1.0//EN
CALSCALE:GREGORIAN
METHOD:PUBLISH
BEGIN:VEVENT
UID:69eb9bf48438f
DTSTAMP:20260424T163604Z
DTSTART:20220409T120000Z
DTEND:20220409T140000Z
LOCATION:
SUMMARY:Sparring Seminar
DESCRIPTION:Gratis Sparring Seminar van Olympiërs &#8220;Tommy Mollet&#822
 1; en &#8220;Reshmie Oogink&#8221; &nbsp; Zaterdag 9 april organiseert de T
 aekwondo Bond Nederland in samenwerking met Taekwondo Rosmalen een gratis s
 parring seminar voor haar leden. Dit zal plaatsvinden in sporthal &#8220;de
  Schutskamp&#8221; Eendenkooi 1 te &#8216;s-Hertogenbosch. Na de lockdown w
 illen we de leden van[..]\nhttps://www.taekwondobond.nl/events/sparring-sem
 inar/
URL:https://www.taekwondobond.nl/events/sparring-seminar/
END:VEVENT
END:VCALENDAR