BEGIN:VCALENDAR
VERSION:2.0
PRODID:-//eventon.com NONSGML v1.0//EN
CALSCALE:GREGORIAN
METHOD:PUBLISH
BEGIN:VEVENT
UID:69eb9c4b71197
DTSTAMP:20260424T163731Z
DTSTART:20220424
DTEND:20220425
LOCATION:
SUMMARY:Danvoorbereidingstraining
DESCRIPTION:Uitschrijving danvoorbereidingscursus 24 april 2022\nhttps://ww
 w.taekwondobond.nl/events/danvoorbereidingstraining-5/
URL:https://www.taekwondobond.nl/events/danvoorbereidingstraining-5/
END:VEVENT
END:VCALENDAR