BEGIN:VCALENDAR
VERSION:2.0
PRODID:-//eventon.com NONSGML v1.0//EN
CALSCALE:GREGORIAN
METHOD:PUBLISH
BEGIN:VEVENT
UID:69e73cbf7bc80
DTSTAMP:20260421T090047Z
DTSTART:20220618
DTEND:20220619
LOCATION:
SUMMARY:Nationaal danexamen
DESCRIPTION:Uitschrijving-Nationaal-Danexamen-18-juni-2022\nhttps://www.tae
 kwondobond.nl/events/nationaal-danexamen-9/
URL:https://www.taekwondobond.nl/events/nationaal-danexamen-9/
END:VEVENT
END:VCALENDAR