BEGIN:VCALENDAR
VERSION:2.0
PRODID:-//eventon.com NONSGML v1.0//EN
CALSCALE:GREGORIAN
METHOD:PUBLISH
BEGIN:VEVENT
UID:69e5ff0b62b50
DTSTAMP:20260420T102515Z
DTSTART:20220424
DTEND:20220425
LOCATION:
SUMMARY:Trainersbijscholing
DESCRIPTION:180 trainersbijscholing 24 april 2022\nhttps://www.taekwondobon
 d.nl/events/trainersbijscholing-5/
URL:https://www.taekwondobond.nl/events/trainersbijscholing-5/
END:VEVENT
END:VCALENDAR