BEGIN:VCALENDAR
VERSION:2.0
PRODID:-//eventon.com NONSGML v1.0//EN
CALSCALE:GREGORIAN
METHOD:PUBLISH
BEGIN:VEVENT
UID:69eb9bb1b71c2
DTSTAMP:20260424T163457Z
DTSTART:20220424
DTEND:20220425
LOCATION:
SUMMARY:Danexaminatoren bijscholing
DESCRIPTION:Danexaminatoren bijscholing 24 april 2022\nhttps://www.taekwond
 obond.nl/events/danexaminatoren-bijscholing/
URL:https://www.taekwondobond.nl/events/danexaminatoren-bijscholing/
END:VEVENT
END:VCALENDAR