BEGIN:VCALENDAR
VERSION:2.0
PRODID:-//eventon.com NONSGML v1.0//EN
CALSCALE:GREGORIAN
METHOD:PUBLISH
BEGIN:VEVENT
UID:69eb9bd8e5f31
DTSTAMP:20260424T163536Z
DTSTART:20230422T105400Z
DTEND:20230422T105400Z
LOCATION:
SUMMARY:Windmills 2023 (CANCELLED)
DESCRIPTION:Windmills 2023 (CANCELLED)\nhttps://www.taekwondobond.nl/events
 /windmills-2023/
URL:https://www.taekwondobond.nl/events/windmills-2023/
END:VEVENT
END:VCALENDAR