BEGIN:VCALENDAR
VERSION:2.0
PRODID:-//eventon.com NONSGML v1.0//EN
CALSCALE:GREGORIAN
METHOD:PUBLISH
BEGIN:VEVENT
UID:69eb9b4cf21c8
DTSTAMP:20260424T163316Z
DTSTART:20231202
DTEND:20231203
LOCATION:
SUMMARY:NK SPARREN 2023
DESCRIPTION:NK SPARRING 2023\nhttps://www.taekwondobond.nl/events/nk-sparre
 n/
URL:https://www.taekwondobond.nl/events/nk-sparren/
END:VEVENT
END:VCALENDAR