BEGIN:VCALENDAR
VERSION:2.0
PRODID:-//eventon.com NONSGML v1.0//EN
CALSCALE:GREGORIAN
METHOD:PUBLISH
BEGIN:VEVENT
UID:69e5f88ecbee9
DTSTAMP:20260420T095734Z
DTSTART:20220508
DTEND:20220509
LOCATION:
SUMMARY:Wedstrijdreglementencursus
DESCRIPTION:Wedstrijdreglementencursus 8 mei 2022\nhttps://www.taekwondobon
 d.nl/events/wedstrijdreglementencursus-9/
URL:https://www.taekwondobond.nl/events/wedstrijdreglementencursus-9/
END:VEVENT
END:VCALENDAR